BEGIN:VCALENDAR
VERSION:2.0
PRODID:-//wp-events-plugin.com//7.2.3.1//EN
BEGIN:VEVENT
UID:17921@blueridgemusic.org
DTSTART;TZID=America/New_York;VALUE=DATE:20260521
DTEND;TZID=America/New_York;VALUE=DATE:20260525
DTSTAMP:20250616T154639Z
URL:https://blueridgemusic.org/events/rooster-walk/
SUMMARY:Rooster Walk
DESCRIPTION:The Rooster Walk music and arts festival is an unforgettable 4-
 day festival with over 40 bands\, camping\, outdoor fun\, craft and food v
 endors\, and much more! The festival was created in memory of two of the f
 ounders' childhood best friends who passed away at a young age\, Edwin “
 the Rooster” Penn and Walker Shank. The festival celebrates life and emp
 hasizes living in and appreciating the moment\, which can be seen and felt
  in all of the Rooster Walk Festivals to date. All proceeds from the festi
 val go to a college scholarship fund for their local high school and Roost
 er Walk's Music Instrument program. To see the lineup\, purchase tickets\,
  or for any more information\, visit their website linked below.\n\nPhone:
  276-650-1583\nEmail: info@roosterwalk.com\nURL: Home - Rooster Walk\nHou
 rs: Thursday - Sunday\, starting at 10am
CATEGORIES:Festival
LOCATION:Pop’s Farm\,  675 Hobson Road\, Axton\, Virginia\, 24054\, Unite
 d States
X-APPLE-STRUCTURED-LOCATION;VALUE=URI;X-ADDRESS= 675 Hobson Road\, Axton\, 
 Virginia\, 24054\, United States;X-APPLE-RADIUS=100;X-TITLE=Pop’s Farm:g
 eo:0,0
END:VEVENT
BEGIN:VTIMEZONE
TZID:America/New_York
X-LIC-LOCATION:America/New_York
BEGIN:DAYLIGHT
DTSTART:20260308T030000
TZOFFSETFROM:-0500
TZOFFSETTO:-0400
TZNAME:EDT
END:DAYLIGHT
END:VTIMEZONE
END:VCALENDAR