BEGIN:VCALENDAR
VERSION:2.0
PRODID:-//wp-events-plugin.com//7.2.3.1//EN
BEGIN:VEVENT
UID:24691@blueridgemusic.org
DTSTART;TZID=America/New_York:20250809T170000
DTEND;TZID=America/New_York:20250809T220000
DTSTAMP:20250630T171711Z
URL:https://blueridgemusic.org/events/sedaliafest/
SUMMARY:SedaliaFest
DESCRIPTION:SedaliaFest\, one of the most anticipated festivals in SWVA\, w
 elcomes you to their 2025 festival! They offer live music\, good food\, ga
 mes\, and so much more\, on top of being a fundraiser for different causes
  each year\, so make sure you stop on by! For ticket prices\, music schedu
 le\, or any more information\, visit their website linked below.\n\nPhone:
  434-299-5080\nEmail: office@sedaliacenter.org\nURL: SedaliaFest - Sedalia
  Center \n\nHours: Doors open at 5pm
CATEGORIES:Festival
LOCATION:Sedalia Center\, 1108 Sedalia School Road\, Big Island \, Virginia
 \, 24526\, Bedford\, United States
GEO:37.490487;-79.44327
X-APPLE-STRUCTURED-LOCATION;VALUE=URI;X-ADDRESS=1108 Sedalia School Road\, 
 Big Island \, Virginia\, 24526\, Bedford\, United States;X-APPLE-RADIUS=10
 0;X-TITLE=Sedalia Center:geo:37.490487,-79.44327
END:VEVENT
BEGIN:VTIMEZONE
TZID:America/New_York
X-LIC-LOCATION:America/New_York
BEGIN:DAYLIGHT
DTSTART:20250309T030000
TZOFFSETFROM:-0500
TZOFFSETTO:-0400
TZNAME:EDT
END:DAYLIGHT
END:VTIMEZONE
END:VCALENDAR