BEGIN:VCALENDAR
VERSION:2.0
PRODID:-//wp-events-plugin.com//7.2.3.1//EN
BEGIN:VEVENT
UID:13984@blueridgemusic.org
DTSTART;TZID=America/New_York:20260403T110000
DTEND;TZID=America/New_York:20260403T143000
DTSTAMP:20250612T193509Z
URL:https://blueridgemusic.org/events/senior-mountain-pickers-2026-04-03/
SUMMARY:Senior Mountain Pickers
DESCRIPTION:Fridays are for a-pickin and a-grinnin down at the Senior Cente
 r in Salem\, VA. The Senior Mountain Pickers is an amazing group of musici
 ans who play every Friday from 11am - 2:30pm. Bring an instrument or sit b
 ack and watch\; either way\, come on out to enjoy the music!\n\nPhone: 54
 0-375-3054\nURL: Senior Center | Salem\, VA\n\nHours: 11am - 2:30pm
CATEGORIES:Jam Session
LOCATION:Salem Senior Center\, 110 Union Street\, Salem\, VA\, 24153\, Unit
 ed States
X-APPLE-STRUCTURED-LOCATION;VALUE=URI;X-ADDRESS=110 Union Street\, Salem\, 
 VA\, 24153\, United States;X-APPLE-RADIUS=100;X-TITLE=Salem Senior Center:
 geo:0,0
END:VEVENT
BEGIN:VTIMEZONE
TZID:America/New_York
X-LIC-LOCATION:America/New_York
BEGIN:DAYLIGHT
DTSTART:20260308T030000
TZOFFSETFROM:-0500
TZOFFSETTO:-0400
TZNAME:EDT
END:DAYLIGHT
END:VTIMEZONE
END:VCALENDAR