BEGIN:VCALENDAR
VERSION:2.0
PRODID:-//wp-events-plugin.com//7.2.3.1//EN
BEGIN:VEVENT
UID:5805@blueridgemusic.org
DTSTART;TZID=America/New_York:20251004T100000
DTEND;TZID=America/New_York:20251004T163000
DTSTAMP:20250531T153524Z
URL:https://blueridgemusic.org/events/silver-creek-seamans-orchards-apple-
 butter-festival/
SUMMARY:Silver Creek & Seamans' Orchards Apple Butter Festival
DESCRIPTION:Fresh\, delicious apples available for selection\, cider\, pick
  your own pumpkins\, a corn maze\, live music\, food and craft vendors\, a
 pple butter\, and much more is available at Silver Creek &amp\; Seamans' O
 rchards Apple Butter Festival! This festival happens every year\, always o
 n the 1st and 3rd Saturday of October.\n\nEmail: info@scso.co\nPhone: 43
 4-277-5824\n\nURL: Silver Creek and Seamans' Orchards | Mountain Grown Ap
 ples with a Flavor All their Own...\n\nHours: 1st and 3rd Saturday every 
 October\, 10am - 4:30pm
CATEGORIES:Festival
LOCATION:Silver Creek &amp\; Seamans’ Orchards\, 5529 Crabtree Falls Hwy\
 , Tyro\, VA\, 22976\, United States
X-APPLE-STRUCTURED-LOCATION;VALUE=URI;X-ADDRESS=5529 Crabtree Falls Hwy\, T
 yro\, VA\, 22976\, United States;X-APPLE-RADIUS=100;X-TITLE=Silver Creek &
  Seamans’ Orchards:geo:0,0
END:VEVENT
BEGIN:VTIMEZONE
TZID:America/New_York
X-LIC-LOCATION:America/New_York
BEGIN:DAYLIGHT
DTSTART:20250309T030000
TZOFFSETFROM:-0500
TZOFFSETTO:-0400
TZNAME:EDT
END:DAYLIGHT
END:VTIMEZONE
END:VCALENDAR