BEGIN:VCALENDAR
VERSION:2.0
PRODID:-//wp-events-plugin.com//7.2.3.1//EN
BEGIN:VEVENT
UID:178@blueridgemusic.org
DTSTART;TZID=America/New_York;VALUE=DATE:20231007
DTEND;TZID=America/New_York;VALUE=DATE:20231009
DTSTAMP:20230629T215154Z
URL:https://blueridgemusic.org/events/sorghum-molasses-festival/
SUMMARY:Sorghum Molasses Festival
DESCRIPTION:The Clifford Ruritan Club is dedicated to supporting the local 
 community‚ through fun and family-based events. The Annual Sorghum festi
 val is their way of doing this. All the money they fundraise will go back 
 into the community. Festivities at the Sorghum Molasses Festival include b
 luegrass bands‚ regional crafts‚ a sawing contest‚ and festival food
 s‚ including sorghum syrup. Note: there is a $5 car parking fee for this
  event. \n\nContact: John Taylor\nPhone: 434-841-2664\nEmail: cliffordru
 ritan@gmail.com\nURL: https://regionalas.wixsite.com/cliffordruritan\n\nH
 ours: Saturday and Sunday 9am - 7pm\nFirst full weekend in October\n\nDire
 ctions:\nFrom Lynchburg‚ take Route 29 north‚ past Amherst‚ to Route
  151. Turn to your left toward Patrick Henry Highway. In Clifford‚ take 
 a right onto Route 610 to the Clifford Ruritan Club (Fletcher Level Road).
CATEGORIES:Festival
LOCATION:Clifford Ruritan Club\, 755 Fletcher Level Road\, Clifford \, Virg
 inia\, 24533\, United States
GEO:37.62501;-79.199484
X-APPLE-STRUCTURED-LOCATION;VALUE=URI;X-ADDRESS=755 Fletcher Level Road\, C
 lifford \, Virginia\, 24533\, United States;X-APPLE-RADIUS=100;X-TITLE=Cli
 fford Ruritan Club:geo:37.62501,-79.199484
END:VEVENT
BEGIN:VTIMEZONE
TZID:America/New_York
X-LIC-LOCATION:America/New_York
BEGIN:DAYLIGHT
DTSTART:20230312T030000
TZOFFSETFROM:-0500
TZOFFSETTO:-0400
TZNAME:EDT
END:DAYLIGHT
END:VTIMEZONE
END:VCALENDAR