BEGIN:VCALENDAR
VERSION:2.0
PRODID:-//wp-events-plugin.com//7.2.3.1//EN
BEGIN:VEVENT
UID:514@blueridgemusic.org
DTSTART;TZID=America/New_York:20240413T083000
DTEND;TZID=America/New_York:20240413T210000
DTSTAMP:20240531T175626Z
URL:https://blueridgemusic.org/events/sounds-of-the-mountains-music-and-st
 ory-festival-2/
SUMMARY:Sounds of the Mountains Music and Story Festival
DESCRIPTION:Our festival is held at Camp Bethel‚ located in the Blue Ridg
 e Mountains of Southwest Virginia. Our festival is a fundraiser for the ou
 tdoor ministries of Camp Bethel‚ a 501(c)3 non-profit organization. Due 
 to COVID-19\, the festival has been canceled but there is an online festiv
 al already on http://www.soundsofthemountains.org/.\nPhone: 540-992-2940
 \nEmail: campbetheloffice@gmail.com\nURL: http://www.soundsofthemountain
 s.org/\nHours: 6 - 9pm\n\nDirections:\nTake Exit 156. At end of ramp turn 
 right onto Route 640‚ Brugh’s Mill Road‚ and go .2 mile to stop sign
  at Route 11.Turn left onto Route 11. Mill Creek Baptist Church will be on
  your left. Just across from the church turn right onto Route 606‚ Blue 
 Ridge Turnpike. Go 1.6 miles to stop sign. Turn right onto Nace Road and g
 o 1/10th of a mile to bridge on left. Turn left onto bridge at Bethel Road
 . Drive under rail-road trestle. Entrance to Camp Bethel is .3 mile straig
 ht ahead.
CATEGORIES:Festival
LOCATION:Camp Bethel\, 328 Bethel Road\, Fincastle\, VA\, 24090\, United St
 ates
X-APPLE-STRUCTURED-LOCATION;VALUE=URI;X-ADDRESS=328 Bethel Road\, Fincastle
 \, VA\, 24090\, United States;X-APPLE-RADIUS=100;X-TITLE=Camp Bethel:geo:0
 ,0
END:VEVENT
BEGIN:VTIMEZONE
TZID:America/New_York
X-LIC-LOCATION:America/New_York
BEGIN:DAYLIGHT
DTSTART:20240310T030000
TZOFFSETFROM:-0500
TZOFFSETTO:-0400
TZNAME:EDT
END:DAYLIGHT
END:VTIMEZONE
END:VCALENDAR