BEGIN:VCALENDAR
VERSION:2.0
PRODID:-//wp-events-plugin.com//7.2.3.1//EN
BEGIN:VEVENT
UID:15251@blueridgemusic.org
DTSTART;TZID=America/New_York:20250613T080000
DTEND;TZID=America/New_York:20250615T180000
DTSTAMP:20250613T190644Z
URL:https://blueridgemusic.org/events/southwest-virginia-antique-farm-days
 /
SUMMARY:Southwest Virginia Antique Farm Days
DESCRIPTION:The Southwest Virginia Antique Farm Days organization is dedica
 ted to restoring and preserving farm machinery and implements that were us
 ed in the agriculture-based society of early Southwest Virginia. Their Ant
 ique Farm Days event showcases all the early farm equipment used and teach
 es not only how the machines and methods of days past worked\, but also th
 e importance of the machines\, heritage\, and culture of early Southwest V
 irginia through demonstrations and displays. Admission is $6 per person.\n
 \nEmail: svapf.org@gmail.com\nURL: Southwest Virginia Antique Farm Days of
  Franklin County\nHours: 8am - 6pm
CATEGORIES:Festival
LOCATION:Franklin County Recreation Park\, 2150 Sontag Road\, Rocky Mount\,
  VA\, 24151\, United States
X-APPLE-STRUCTURED-LOCATION;VALUE=URI;X-ADDRESS=2150 Sontag Road\, Rocky Mo
 unt\, VA\, 24151\, United States;X-APPLE-RADIUS=100;X-TITLE=Franklin Count
 y Recreation Park:geo:0,0
END:VEVENT
BEGIN:VTIMEZONE
TZID:America/New_York
X-LIC-LOCATION:America/New_York
BEGIN:DAYLIGHT
DTSTART:20250309T030000
TZOFFSETFROM:-0500
TZOFFSETTO:-0400
TZNAME:EDT
END:DAYLIGHT
END:VTIMEZONE
END:VCALENDAR