BEGIN:VCALENDAR
VERSION:2.0
PRODID:-//wp-events-plugin.com//7.2.3.1//EN
BEGIN:VEVENT
UID:388@blueridgemusic.org
DTSTART;TZID=America/New_York:20240802T100000
DTEND;TZID=America/New_York:20240803T220000
DTSTAMP:20240528T172719Z
URL:https://blueridgemusic.org/events/steppin-out-festival/
SUMMARY:Steppin’ Out Festival
DESCRIPTION:Steppin’ Out features over 250 artists and crafts people from
  around the United States selling unique handcrafted items – jewelry‚ 
 pottery‚ textiles‚ metal work‚ basketry‚ stained &amp\; fused glas
 s‚ yard art‚ fine art‚ furniture‚ toys‚ artisan foods and so muc
 h more! The acoustic stage offers a variety of music‚ including local bl
 uegrass bands. Admission is free! Town of Blacksburg metered parking is al
 l free and Blacksburg Transit provides free shuttles to get you there with
 out the hassles. Bring your friends! Bring your family!\nPhone: 540-951-0
 454\nEmail: events@downtownblacksburg.com\nURL: http://www.blacksburgste
 ppinout.com/\nHours: 10am-10pm\n\n
CATEGORIES:Festival
LOCATION:Downtown Blacksburg\, 103 West Roanoke Street\, Blacksburg\, VA\, 
 24060\, United States
X-APPLE-STRUCTURED-LOCATION;VALUE=URI;X-ADDRESS=103 West Roanoke Street\, B
 lacksburg\, VA\, 24060\, United States;X-APPLE-RADIUS=100;X-TITLE=Downtown
  Blacksburg:geo:0,0
END:VEVENT
BEGIN:VTIMEZONE
TZID:America/New_York
X-LIC-LOCATION:America/New_York
BEGIN:DAYLIGHT
DTSTART:20240310T030000
TZOFFSETFROM:-0500
TZOFFSETTO:-0400
TZNAME:EDT
END:DAYLIGHT
END:VTIMEZONE
END:VCALENDAR