BEGIN:VCALENDAR
VERSION:2.0
PRODID:-//wp-events-plugin.com//7.2.3.1//EN
BEGIN:VEVENT
UID:12623@blueridgemusic.org
DTSTART;TZID=America/New_York:20250801T100000
DTEND;TZID=America/New_York:20250802T220000
DTSTAMP:20250611T192410Z
URL:https://blueridgemusic.org/events/steppin-out/
SUMMARY:Steppin' Out
DESCRIPTION:Steppin' Out features over 250 artists and crafts people from a
 round the United States selling unique handcrafted items – jewelry\, pot
 tery\, textiles\, metal work\, basketry\, stained &amp\; fused glass\, yar
 d art\, fine art\, furniture\, toys\, artisan foods and so much more! List
 en to over 25 excellent musical acts all afternoon and well into the eveni
 ng\, both Friday and Saturday. Admission is free!\n\nPhone: 540-951-0454\n
 Email: info@downtownblacksburg.com\nURL: Blacksburg Steppin' Out Artist\, 
 Music and More\n\nHours: 10am - 10pm Friday &amp\; Saturday
CATEGORIES:Festival
LOCATION:Downtown Blacksburg\, 103 West Roanoke Street\, Blacksburg\, VA\, 
 24060\, United States
X-APPLE-STRUCTURED-LOCATION;VALUE=URI;X-ADDRESS=103 West Roanoke Street\, B
 lacksburg\, VA\, 24060\, United States;X-APPLE-RADIUS=100;X-TITLE=Downtown
  Blacksburg:geo:0,0
END:VEVENT
BEGIN:VTIMEZONE
TZID:America/New_York
X-LIC-LOCATION:America/New_York
BEGIN:DAYLIGHT
DTSTART:20250309T030000
TZOFFSETFROM:-0500
TZOFFSETTO:-0400
TZNAME:EDT
END:DAYLIGHT
END:VTIMEZONE
END:VCALENDAR