BEGIN:VCALENDAR
VERSION:2.0
PRODID:-//wp-events-plugin.com//7.2.3.1//EN
BEGIN:VEVENT
UID:20408@blueridgemusic.org
DTSTART;TZID=America/New_York:20260307T100000
DTEND;TZID=America/New_York:20260307T150000
DTSTAMP:20250623T160315Z
URL:https://blueridgemusic.org/events/the-heritage-shoppe-2025-06-28-2025-
 07-05-2025-07-12-2025-07-19-2025-07-26-2025-08-02-2025-08-09-2025-08-16-20
 25-08-23-2025-08-30-2025-09-06-2025-09-13-2025-09-20-2025-09-27-2025-10-04
 -2-28-2026-03-07/
SUMMARY:The Heritage Shoppe
DESCRIPTION:The Heritage Shoppe sells old-time\, bluegrass\, and gospel rec
 ordings made by local mountain musicians. Many local musicians also go to 
 Heritage Records to record and distribute their music. They also have a la
 rge selection of baking and party supplies for sale on top of their Appala
 chian music recordings.\n\nPhone: 276-236-9249\nURL: The Heritage Shoppe 
 \n\nHours: Wednesday - Friday: 10am - 4pm   Saturday: 10am - 3pm
LOCATION:Heritage Shoppe\, 101 Coulson Church Rd\, Woodlawn\, Virginia\, 24
 381\, United States
X-APPLE-STRUCTURED-LOCATION;VALUE=URI;X-ADDRESS=101 Coulson Church Rd\, Woo
 dlawn\, Virginia\, 24381\, United States;X-APPLE-RADIUS=100;X-TITLE=Herita
 ge Shoppe:geo:0,0
END:VEVENT
BEGIN:VTIMEZONE
TZID:America/New_York
X-LIC-LOCATION:America/New_York
BEGIN:STANDARD
DTSTART:20251102T010000
TZOFFSETFROM:-0400
TZOFFSETTO:-0500
TZNAME:EST
END:STANDARD
END:VTIMEZONE
END:VCALENDAR