BEGIN:VCALENDAR
VERSION:2.0
PRODID:-//wp-events-plugin.com//7.2.3.1//EN
BEGIN:VEVENT
UID:12566@blueridgemusic.org
DTSTART;TZID=America/New_York:20270918T090000
DTEND;TZID=America/New_York:20270918T160000
DTSTAMP:20250610T190454Z
URL:https://blueridgemusic.org/events/the-kiwanis-wilderness-trail-festiva
 l-2027-09-18/
SUMMARY:The Kiwanis Wilderness Trail Festival
DESCRIPTION:Celebrate history\, culture\, and tradition at the Wilderness T
 rail Festival\, hosted by the Kiwanis Club of Christiansburg. The festival
  is always a full day of fun and excitement for the entire family loaded w
 ith many great local artisans and crafters\, live local entertainment on t
 wo stages\, Children's Area with free activities\, heritage trade &amp\; s
 kill demonstrators\, delicious food from area restaurants and food trucks\
 , raffles\, and much more! Admission is free.\n\nPhone: 540-230-7803\nEmai
 l: wildernesstrailfestival@gmail.com\nURL: The Kiwanis Wilderness Trail Fe
 stival\n\nHours: 9am - 4pm
CATEGORIES:Festival
END:VEVENT
BEGIN:VTIMEZONE
TZID:America/New_York
X-LIC-LOCATION:America/New_York
BEGIN:DAYLIGHT
DTSTART:20270314T030000
TZOFFSETFROM:-0500
TZOFFSETTO:-0400
TZNAME:EDT
END:DAYLIGHT
END:VTIMEZONE
END:VCALENDAR