BEGIN:VCALENDAR
VERSION:2.0
PRODID:-//wp-events-plugin.com//7.2.3.1//EN
BEGIN:VEVENT
UID:4143@blueridgemusic.org
DTSTART;TZID=America/New_York:20260424T173000
DTEND;TZID=America/New_York:20260424T210000
DTSTAMP:20250616T201359Z
URL:https://blueridgemusic.org/events/the-willis-gap-community-center-open
 -jam-2026-04-24/
SUMMARY:The Willis Gap Community Center Open Jam
DESCRIPTION:The Willis Gap Community Center Open Jam (every Friday night) a
 t 144 The Hollow Road\, Ararat\, VA 24053\, Affiliated Partner of The Croo
 ked Road Virginia's Heritage Music Trail. A few miles from the Blue Ridge 
 Parkway (Mabry Mill)\, a few miles from Meadows of Dan (Primland Auberge R
 esort)\, and a few miles from Mount Airy\, NC (Mayberry) the Hometown of A
 ndy Griffith. Doors open at 6:00 p.m.\, and music at 7:00 p.m. with acoust
 ic instruments. We are inviting all ages and skill levels. Fresh slaw/chil
 i hotdogs\, chips\, candy\, cakes\, popcorn\, sodas\, coffee\, and bottled
  water—southern hospitality at its best. Music\, dancing\, food\, fellow
 ship\, and family-friendly—the 50/50 drawing around 8:30 p.m.\n\nPhone:
  276-927-0825\n\nEmail: marhill196648@yahoo.com\nURL: Willis Gap Communit
 y Center Open Jam | Ararat VA | Facebook\nHours: Doors open at 5:30pm\, Mu
 sic goes between 6 - 9pm\n
CATEGORIES:Jam Session
LOCATION:Willis Gap Community Center\, 144 The Hollow Road\, Ararat\, VA\, 
 24053\, United States
X-APPLE-STRUCTURED-LOCATION;VALUE=URI;X-ADDRESS=144 The Hollow Road\, Arara
 t\, VA\, 24053\, United States;X-APPLE-RADIUS=100;X-TITLE=Willis Gap Commu
 nity Center:geo:0,0
END:VEVENT
BEGIN:VTIMEZONE
TZID:America/New_York
X-LIC-LOCATION:America/New_York
BEGIN:DAYLIGHT
DTSTART:20260308T030000
TZOFFSETFROM:-0500
TZOFFSETTO:-0400
TZNAME:EDT
END:DAYLIGHT
END:VTIMEZONE
END:VCALENDAR