BEGIN:VCALENDAR
VERSION:2.0
PRODID:-//wp-events-plugin.com//7.2.3.1//EN
BEGIN:VEVENT
UID:12618@blueridgemusic.org
DTSTART;TZID=America/New_York:20250816T100000
DTEND;TZID=America/New_York:20250816T140000
DTSTAMP:20250611T182500Z
URL:https://blueridgemusic.org/events/tomato-festival/
SUMMARY:Tomato Festival
DESCRIPTION:The Tomato Festival is a must-go for tomato lovers! They will h
 ave the TomatOlympics\, live music\, vendors\, craft table\, a Tomato Tale
 nt show\, Tomato Contests\, a Tomato Pageant\, and tomato themed food such
  as pizza\, fried green tomatoes\, and tomato sandwiches! Visit their webs
 ite for more information and forms for the tomato contests.\n\nPhone: 540-
 268-1623\nEmail: eastmontcf@gmail.com\nURL: Tomato Festival\, Events — E
 astmont Community Foundation \n\nHours: 10am - 2pm
CATEGORIES:Festival
END:VEVENT
BEGIN:VTIMEZONE
TZID:America/New_York
X-LIC-LOCATION:America/New_York
BEGIN:DAYLIGHT
DTSTART:20250309T030000
TZOFFSETFROM:-0500
TZOFFSETTO:-0400
TZNAME:EDT
END:DAYLIGHT
END:VTIMEZONE
END:VCALENDAR