BEGIN:VCALENDAR
VERSION:2.0
PRODID:-//wp-events-plugin.com//7.2.3.1//EN
BEGIN:VEVENT
UID:9909@blueridgemusic.org
DTSTART;TZID=America/New_York:20260303T170000
DTEND;TZID=America/New_York:20260303T190000
DTSTAMP:20250610T141611Z
URL:https://blueridgemusic.org/events/tuesday-tunes-2026-03-03/
SUMMARY:Tuesday Tunes
DESCRIPTION:Join The Floyd Country Store every Tuesday at 5:00pm for Tuesda
 y Tunes\, featuring great bluegrass or old-time music from local musicians
 . Admission is free for everyone\, with tips appreciated.\n\nPhone: 540-7
 45-4563\nEmail: info@floydcountrystore.com\nURL: http://www.floydcountry
 store.com/\nHours: 5pm - 7pm
CATEGORIES:Concert,Jam Session
LOCATION:Floyd Country Store\, 206 South Locust Street\, Floyd\, Virginia\,
  24091\, United States
X-APPLE-STRUCTURED-LOCATION;VALUE=URI;X-ADDRESS=206 South Locust Street\, F
 loyd\, Virginia\, 24091\, United States;X-APPLE-RADIUS=100;X-TITLE=Floyd C
 ountry Store:geo:0,0
END:VEVENT
BEGIN:VTIMEZONE
TZID:America/New_York
X-LIC-LOCATION:America/New_York
BEGIN:STANDARD
DTSTART:20251102T010000
TZOFFSETFROM:-0400
TZOFFSETTO:-0500
TZNAME:EST
END:STANDARD
END:VTIMEZONE
END:VCALENDAR