BEGIN:VCALENDAR
VERSION:2.0
PRODID:-//wp-events-plugin.com//7.2.3.1//EN
BEGIN:VEVENT
UID:15252@blueridgemusic.org
DTSTART;TZID=America/New_York:20250816T120000
DTEND;TZID=America/New_York:20250816T220000
DTSTAMP:20250613T192948Z
URL:https://blueridgemusic.org/events/warren-street-festival/
SUMMARY:Warren Street Festival
DESCRIPTION:Celebrating 25 years of heritage\, culture\, community\, histor
 y\, and legacy\, join the Warren Street Historical Society at their annual
  Warren Street Festival!  It is filled with fun\, food\, culture\, histor
 y\, live music\, and much more! Admission is free.\n\nPhone: 540-238-4266\
 nEmail: warrenstreetsoc@gmail.com\nURL: Warren Street Historical Society\n
 Hours: 12pm - 10pm
CATEGORIES:Festival
LOCATION:Rocky Mount Farmer’s Market\,  50 Warren Street\, Rocky Mount\, 
 VA\, 24151\, United States
X-APPLE-STRUCTURED-LOCATION;VALUE=URI;X-ADDRESS= 50 Warren Street\, Rocky M
 ount\, VA\, 24151\, United States;X-APPLE-RADIUS=100;X-TITLE=Rocky Mount F
 armer’s Market:geo:0,0
END:VEVENT
BEGIN:VTIMEZONE
TZID:America/New_York
X-LIC-LOCATION:America/New_York
BEGIN:DAYLIGHT
DTSTART:20250309T030000
TZOFFSETFROM:-0500
TZOFFSETTO:-0400
TZNAME:EDT
END:DAYLIGHT
END:VTIMEZONE
END:VCALENDAR