BEGIN:VCALENDAR
VERSION:2.0
PRODID:-//wp-events-plugin.com//7.2.3.1//EN
BEGIN:VEVENT
UID:24623@blueridgemusic.org
DTSTART;TZID=America/New_York:20260321T190000
DTEND;TZID=America/New_York:20260321T210000
DTSTAMP:20250627T143038Z
URL:https://blueridgemusic.org/events/wcc-bluegrass-old-time-jamboree-2025
 -08-16-2025-09-20-2025-10-18-2025-11-15-2025-12-20-2026-01-17-2026-02-21-2
 026-03-21/
SUMMARY:WCC Bluegrass & Old Time Jamboree
DESCRIPTION:The WCC Bluegrass &amp\; Old-Time Jamboree is held every third 
 Saturday of the month\, except the months of June and July\, at 7 p.m. in 
 the Snyder Auditorium\, Grayson Hall\, on WCC's Wytheville campus.  Each 
 Jamboree features a bluegrass band and an old-time band. The bluegrass ban
 d usually performs from 7-8 p.m.\, and the old-time band usually performs 
 from 8-9 p.m. Room is provided for anyone who wants to shake a leg and dan
 ce. Visit their Facebook linked below to see which bands are being showcas
 ed each month.\n\nPhone: 276-223-4700\nURL:  WCC Jamboree | Facebook\n\nHo
 urs: 7pm - 9pm
CATEGORIES:Concert,Gathering
LOCATION:Wytheville Community College\, 1000 East Main Street\, Wytheville\
 , VA\, 24382\, United States
X-APPLE-STRUCTURED-LOCATION;VALUE=URI;X-ADDRESS=1000 East Main Street\, Wyt
 heville\, VA\, 24382\, United States;X-APPLE-RADIUS=100;X-TITLE=Wytheville
  Community College:geo:0,0
END:VEVENT
BEGIN:VTIMEZONE
TZID:America/New_York
X-LIC-LOCATION:America/New_York
BEGIN:DAYLIGHT
DTSTART:20260308T030000
TZOFFSETFROM:-0500
TZOFFSETTO:-0400
TZNAME:EDT
END:DAYLIGHT
END:VTIMEZONE
END:VCALENDAR