BEGIN:VCALENDAR
VERSION:2.0
PRODID:-//wp-events-plugin.com//7.2.3.1//EN
BEGIN:VEVENT
UID:24692@blueridgemusic.org
DTSTART;TZID=America/New_York:20251005T110000
DTEND;TZID=America/New_York:20251005T170000
DTSTAMP:20250630T185149Z
URL:https://blueridgemusic.org/events/whitetop-molasses-festival/
SUMMARY:Whitetop Molasses Festival
DESCRIPTION:Visit Whitetop\, Virginia\, for a day full of molasses\, live m
 usic\, vendors\, good food\, and much more at the Whitetop Molasses Festiv
 al! Admission is $5 per person.\n\nPhone: 276-388-3422\nEmail: mtrogersvfr
 @gmail.com\nURL: Mount Rogers Fire and Rescue | Whitetop VA | Facebook \n
 \nHours: 11am - 5pm
CATEGORIES:Festival
LOCATION:Mount Rogers Fire Hall\, 51 Fire Hall Road\, Whitetop\, VA\, 24292
 \, United States
X-APPLE-STRUCTURED-LOCATION;VALUE=URI;X-ADDRESS=51 Fire Hall Road\, Whiteto
 p\, VA\, 24292\, United States;X-APPLE-RADIUS=100;X-TITLE=Mount Rogers Fir
 e Hall:geo:0,0
END:VEVENT
BEGIN:VTIMEZONE
TZID:America/New_York
X-LIC-LOCATION:America/New_York
BEGIN:DAYLIGHT
DTSTART:20250309T030000
TZOFFSETFROM:-0500
TZOFFSETTO:-0400
TZNAME:EDT
END:DAYLIGHT
END:VTIMEZONE
END:VCALENDAR