BEGIN:VCALENDAR
VERSION:2.0
PRODID:-//wp-events-plugin.com//7.2.3.1//EN
BEGIN:VEVENT
UID:23252@blueridgemusic.org
DTSTART;TZID=America/New_York:20260328T090000
DTEND;TZID=America/New_York:20260329T160000
DTSTAMP:20250624T175715Z
URL:https://blueridgemusic.org/events/whitetop-mountain-maple-festival-2/
SUMMARY:Whitetop Mountain Maple Festival
DESCRIPTION:The community of Whitetop has been making syrup for fifty years
 ! It was on March 13\, 1975\, after 18 months of hard work\, that Whitetop
  had its first run of sap\, and the Maple Festival has been a tradition ev
 er since. Come visit the Maple Festival for a family-friendly good time. E
 njoy a pancake meal with genuine maple syrup\, tapped fresh from the secon
 d highest peak in Virginia. Pancakes will be served at the community cente
 r\, all day Saturday and Sunday. Throughout the day\, tapping tours will b
 e offered on Whitetop Mountain\, and local musicians will be playing at th
 e Fire Hall.\n\nURL: Mount Rogers Fire and Rescue | Whitetop VA | Facebook
  \n\nHours: 9am - 4pm
CATEGORIES:Festival
END:VEVENT
BEGIN:VTIMEZONE
TZID:America/New_York
X-LIC-LOCATION:America/New_York
BEGIN:DAYLIGHT
DTSTART:20260308T030000
TZOFFSETFROM:-0500
TZOFFSETTO:-0400
TZNAME:EDT
END:DAYLIGHT
END:VTIMEZONE
END:VCALENDAR