BEGIN:VCALENDAR
VERSION:2.0
PRODID:-//wp-events-plugin.com//7.2.3.1//EN
BEGIN:VEVENT
UID:365@blueridgemusic.org
DTSTART;TZID=America/New_York:20240406T090000
DTEND;TZID=America/New_York:20240407T170000
DTSTAMP:20240606T165506Z
URL:https://blueridgemusic.org/events/whitetop-mountain-maple-festival/
SUMMARY:Whitetop Mountain Maple Festival
DESCRIPTION:The Whitetop Mountain-Mount Rogers community of Grayson County
 ‚ Virginia‚ hosts several annual events featuring traditional music. V
 isitors to the event enjoy music‚ crafts‚ storytelling‚ tours of a m
 aple tapping area and a sugar house‚ and pancakes served with freshly ma
 de maple syrup. Proceeds from the sale of pancakes and containers of fresh
  maple syrup support activities at the Mount Rogers School. Pancakes are s
 erved at the school‚ while the music is played at the Mount Rogers Fire 
 Hall.\nPhone: 276-773-2000\nEmail: eholeton@graysoncountyva.com\nURL: ht
 tps://www.whitetopva.org/maple-festival\nHours: 9:00am-5:00pm\n\nDirection
 s:\nFrom Independence go west on US 58‚ toward Mouth of Wilson until you
  get to Mount Rogers. Some activities take place at Mount Rogers School‚
  and others take place at the Mount Rogers Fire Hall. Look for the signs.
CATEGORIES:Festival
LOCATION:Mt. Rogers School &amp\; Mt. Rogers Fire Hall\, 11605 Highlands Pa
 rkway\, Whitetop\, Virginia\, 24292\, United States
X-APPLE-STRUCTURED-LOCATION;VALUE=URI;X-ADDRESS=11605 Highlands Parkway\, W
 hitetop\, Virginia\, 24292\, United States;X-APPLE-RADIUS=100;X-TITLE=Mt. 
 Rogers School & Mt. Rogers Fire Hall:geo:0,0
END:VEVENT
BEGIN:VTIMEZONE
TZID:America/New_York
X-LIC-LOCATION:America/New_York
BEGIN:DAYLIGHT
DTSTART:20240310T030000
TZOFFSETFROM:-0500
TZOFFSETTO:-0400
TZNAME:EDT
END:DAYLIGHT
END:VTIMEZONE
END:VCALENDAR