BEGIN:VCALENDAR
VERSION:2.0
PRODID:-//wp-events-plugin.com//7.2.3.1//EN
BEGIN:VEVENT
UID:358@blueridgemusic.org
DTSTART;TZID=America/New_York:20241006T110000
DTEND;TZID=America/New_York:20241006T170000
DTSTAMP:20240605T164813Z
URL:https://blueridgemusic.org/events/whitetop-mountain-molasses-festival/
SUMMARY:Whitetop Mountain Molasses Festival
DESCRIPTION:The Mount Rogers Fire Hall is the site for the annual Whitetop 
 Mountain Molasses Festival. This event is the fall counterpart to the Whit
 etop Mountain Maple Festival‚ and it features crafts‚ demonstrations o
 f apple butter making‚ sorghum molasses making‚ and lots of good old m
 ountain music.\nPhone: 276-773-2000\nEmail: eholeton@graysoncountyva.com
 \nURL: https://smythchamber.org/event/whitetop-mountain-sorghum-molasses-f
 estival/\nHours:11:00am-5:00pm\n\nDirections:\nFrom Independence go west o
 n US 58‚ toward Mouth of Wilson until you get to Mount Rogers. Most of t
 his event will be held at the Mount Rogers Fire Hall. Look for the signs.
CATEGORIES:Festival
LOCATION:Mount Rogers Fire Hall\, 51 Fire Hall Road\, Whitetop\, VA\, 24292
 \, United States
X-APPLE-STRUCTURED-LOCATION;VALUE=URI;X-ADDRESS=51 Fire Hall Road\, Whiteto
 p\, VA\, 24292\, United States;X-APPLE-RADIUS=100;X-TITLE=Mount Rogers Fir
 e Hall:geo:0,0
END:VEVENT
BEGIN:VTIMEZONE
TZID:America/New_York
X-LIC-LOCATION:America/New_York
BEGIN:DAYLIGHT
DTSTART:20240310T030000
TZOFFSETFROM:-0500
TZOFFSETTO:-0400
TZNAME:EDT
END:DAYLIGHT
END:VTIMEZONE
END:VCALENDAR