BEGIN:VCALENDAR
VERSION:2.0
PRODID:-//wp-events-plugin.com//7.2.3.1//EN
BEGIN:VEVENT
UID:368@blueridgemusic.org
DTSTART;TZID=America/New_York:20240519T110000
DTEND;TZID=America/New_York:20240519T170000
DTSTAMP:20240606T171828Z
URL:https://blueridgemusic.org/events/whitetop-mountain-ramp-festival/
SUMMARY:Whitetop Mountain Ramp Festival
DESCRIPTION:Folks gather at the Mount Rogers Fire Hall on the third Sunday 
 in May for the annual Whitetop Mountain Ramp Festival. Ramps are a type of
  strongly-flavored wild onion gathered and prepared for eating each spring
  all around the highlands of southwest Virginia. This event includes music
  performed by local players‚ crafts‚ games‚ mountain dancing‚ a ra
 mp eating contest‚ and barbecued chicken flavored with ramps. Check the 
 Facebook page to see the Covid procedures this event is taking.\nPhone: 2
 76-388-3422\nEmail: eholeton@graysoncountyva.com\nURL:https://www.whiteto
 pva.org/ramp-festival\nHours: 11:00am-5:00pm\n\n\n\nDirections:\nFrom Inde
 pendence go west on US 58‚ toward Mouth of Wilson until you get to Mount
  Rogers. The event will be held at the Mount Rogers Fire Hall. Look for th
 e signs.\n\n\n\n\n\n\n\n\n\n\n
CATEGORIES:Festival
LOCATION:Mount Rogers Fire Hall\,  51 Fire Hall Road\, Whitetop\, VA\, 2429
 2\, United States
X-APPLE-STRUCTURED-LOCATION;VALUE=URI;X-ADDRESS= 51 Fire Hall Road\, Whitet
 op\, VA\, 24292\, United States;X-APPLE-RADIUS=100;X-TITLE=Mount Rogers Fi
 re Hall:geo:0,0
END:VEVENT
BEGIN:VTIMEZONE
TZID:America/New_York
X-LIC-LOCATION:America/New_York
BEGIN:DAYLIGHT
DTSTART:20240310T030000
TZOFFSETFROM:-0500
TZOFFSETTO:-0400
TZNAME:EDT
END:DAYLIGHT
END:VTIMEZONE
END:VCALENDAR