BEGIN:VCALENDAR
VERSION:2.0
PRODID:-//wp-events-plugin.com//7.2.3.1//EN
BEGIN:VEVENT
UID:18526@blueridgemusic.org
DTSTART;TZID=America/New_York:20251011T100000
DTEND;TZID=America/New_York:20251011T160000
DTSTAMP:20250617T173835Z
URL:https://blueridgemusic.org/events/woolwine-octoberfest/
SUMMARY:Woolwine Octoberfest
DESCRIPTION:Held the second Saturday in October at the Woolwine Volunteer F
 ire Department each year\, you’re invited to come visit this sweet commu
 nity and dance the afternoon away to some of the best mountain music of th
 e area! Pull up a chair and celebrate the season and fellowship with good\
 , honest\, hardworking folks that take care of their neighbors! Bring a ch
 air\, your appetite\, and your boogie shoes! There will be apple butter\, 
 apple pies\, hotdogs\, vendors\, live music\, and so much more! Have the b
 est afternoon all while supporting a great cause!\n\nPhone: 276-693-2005\n
 Email: info@visitpatrickcounty.org\nURL: Patrick County\, Virginia - Find
  Yourself Here\nHours: 10am - 4pm
CATEGORIES:Festival
LOCATION:Woolwine Volunteer Fire Department\, 9912 Woolwine Hwy\, Woolwine\
 , Virginia\, 24185\, United States
X-APPLE-STRUCTURED-LOCATION;VALUE=URI;X-ADDRESS=9912 Woolwine Hwy\, Woolwin
 e\, Virginia\, 24185\, United States;X-APPLE-RADIUS=100;X-TITLE=Woolwine V
 olunteer Fire Department:geo:0,0
END:VEVENT
BEGIN:VTIMEZONE
TZID:America/New_York
X-LIC-LOCATION:America/New_York
BEGIN:DAYLIGHT
DTSTART:20250309T030000
TZOFFSETFROM:-0500
TZOFFSETTO:-0400
TZNAME:EDT
END:DAYLIGHT
END:VTIMEZONE
END:VCALENDAR